Workbook

Sheet 000000

Sheet ①入力注意事項
B4: ＯＴＶ杯争奪 OFA 第 54 回 沖縄県サッカーリーグの登録方法について | W4: 2025年4月吉日
C8: ※記入する前に、バックアップファイルを必ず取る事。
B11: 入力注意事項
C12: （1） | D12: ｿﾌﾄは,ｴｸｾﾙにて作成を御願いします。
C14: （2） | D14: ②チーム登録書に入力をして下さい。
C16: （3） | D16: ③選手登録書に入力して下さい。
C18: （4） | D18: 入力した事項がうまく連動しているか,確認をｼｰﾄ欄ｲﾝﾃﾞｨｯｸｽの冊子掲載書類で確認して下さい。
D19: ☆（2）、(3) のｼｰﾄと簡単に連動させていますので、確認して下さい。
D20: ※「冊子掲載書類（参考）」シートはイメージですので、不具合表示されていた場合は、無視してください。
C22: ※提出方法
D23: 不備のないよう県ﾘｰｸﾞ事務局までメールにて送信の程、宜しくお願い致します。
D25: Ａ) 本ファイル （Excelファイル）
D27: Ｂ） ﾁｰﾑ集合写真 （Jpg等の画像ファイル もしくは ＰＤＦ や 本Ｅｘｃｅｌとは別のExcel等への貼り付け）
D29: Ｃ） 広告 （Ｊｐｇ等の画像ファイル もしくは ＰＤＦや本Excelとは別のＥｘｃｅｌ等への貼り付け）
D30: 必ずタイプ（Ａ，Ｂ，Ｃ ）の連絡をお願いします。
D32: ※ ﾁｰﾑ集合写真をファイルで送れない場合、1枚を提出。（寸法=縦8.9ｃｍ・横12.7ｃｍ程度とする）（※裏面にチーム名を記入）
D34: ※ 広告をファイルで送れない場合、用紙で提出。（※表面の空きスペースか裏面にチーム名を記入）
D36: 提出締め切りは、2025年6月1日（月）まで
E38: Ａ） 選手人数が、36人を超えるチームは事務局まで申し出て下さい。
E40: Ｂ） ﾊﾟｿｺﾝにて対応不可能ﾁｰﾑは、事務局に連絡下さい。
E42: ※提出は、チーム名称と担当者の氏名を記載の上、提出して下さい。
B46: ※ 参加申込書に記載し書類確認の上、下記のメールへ送付願います。（どちらも可）
B47: メールアドレス： info@okinawakenleague.jpn.org
B48: メールアドレス： kenleague2013@gmail.com （ｹｲｲｰｴﾇｴﾙｲｰｴｰｼﾞｰﾕｰｲｰ）
B50: ※ 記載不明の点がありましたら事務局： 新垣 義夫、波平 聡まで
B51: 問い合わせ願います。
B52: （新垣：090-9785-7483）（波平：090-8762-5820）
B54: ※ 提出期限は、2025年6月1日（月）迄となります。 期限厳守！！
B55: 期限過ぎてからの提出は認めません！！

Sheet ②チーム登録書
B2: ＯＴＶ杯争奪 OFA 第 5 4 回 沖 縄 県 サ ッ カ ー リ ー グ 登 録 書 （チーム情報）
C4: 団体名（チーム名）
C5: チーム登録番号 | E5: ※７桁の登録番号です。
C6: 名称
C7: 名称フリガナ
C8: 略称名（６文字以内） | E8: ※チーム名が６文字以内ならそのままOK
C9: 所在地 | E9: ※市町村、または地名
C10: 所属リーグ
C12: 代表者
C13: 氏名 | E13: ※チーム連絡先になります。
C14: フリガナ | E14: ※チーム連絡先になります。
C15: 職場名
C16: 自宅電話
C17: 連絡先（携帯電話） | E17: ※チーム連絡先になります。
C18: 職場電話
C20: チーム運営委員
C21: 氏名 | E21: ※チーム連絡先になります。
C22: フリガナ | E22: ※チーム連絡先になります。
C23: 自宅電話
C24: 連絡先（携帯電話） | E24: ※チーム連絡先になります。
C26: 監督
C27: 氏名
C28: フリガナ
C30: 主将
C31: 氏名
C32: フリガナ
C34: ユニフォーム | D34: 正 | E34: 副
C35: FP：上
C36: 下
C37: ソックス
C38: GK：上
C39: 下
C40: ソックス
D41: ※対戦相手へわかりやすくする為のものです。
D42: 試合当日に色が揃わない場合は別色でも問題ありません（暫定処置）
C45: チームプロフィール

Sheet ③選手登録書
B2: Ｏ Ｔ Ｖ 杯 争 奪 O F A 第 5 4 回 沖 縄 県 サ ッ カ ー リ ー グ 登 録 書 （選手情報）
B4: 選 手 一 覧 | N4: 審判員情報（５名以上）
B5: 背番号 | C5: ﾎﾟｼﾞｼｮﾝ | D5: 氏 名 | E5: フリガナ | F5: 生年月日（西暦） | I5: 年齢 | J5: 身長 | K5: 体重 | L5: 前所属チーム | M5: 登録番号 | N5: 印 | O5: 審判員（級） | P5: 連絡先（携帯）
A6: 1 | Q6: =IF(D6="","",D6)
A7: 2 | Q7: =IF(D7="","",D7)
A8: 3 | Q8: =IF(D8="","",D8)
A9: 4 | Q9: =IF(D9="","",D9)
A10: 5 | Q10: =IF(D10="","",D10)
A11: 6 | Q11: =IF(D11="","",D11)
A12: 7 | Q12: =IF(D12="","",D12)
A13: 8 | Q13: =IF(D13="","",D13)
A14: 9 | Q14: =IF(D14="","",D14)
A15: 10 | Q15: =IF(D15="","",D15)
A16: 11 | Q16: =IF(D16="","",D16)
A17: 12 | Q17: =IF(D17="","",D17)
... A41: 36 | Q41: =IF(D41="","",D41)
B42: 選手外審判員 | Q42: =IF(D42="","",D42)
Q43: =IF(D43="","",D43)
Q44: =IF(D44="","",D44)
Q45: =IF(D45="","",D45)
Q46: =IF(D46="","",D46)
Q47: =IF(D47="","",D47)

Sheet 入力データ一覧
A1: 所属リーグ | B1: 審判階級 | C1: 印刷順番
A2: １部リーグ | B2: １級 | C2: 順番1
A3: ２部東リーグ | B3: ２級 | C3: 順番2
A4: ２部西リーグ | B4: ３級 | C4: 順番3
A5: ３部東リーグ | B5: ４級 | C5: 順番4
A6: ３部西リーグ | C6: 順番5
A7: ３部南リーグ
A8: ３部北リーグ

Sheet 冊子掲載書類（参考）
B2: =IF(②チーム登録書!D6="","",②チーム登録書!D6)
B3: FP | D3: ｼｬﾂ | G3: ﾊﾟﾝﾂ | J3: ｿｯｸｽ | M3: GK | O3: ｼｬﾂ | R3: ﾊﾟﾝﾂ | U3: ｿｯｸｽ
C4: 正 | D4: =②チーム登録書!D35 -> 0 | G4: =②チーム登録書!D36 -> 0 | J4: =②チーム登録書!D37 -> 0 | N4: 正 | O4: =②チーム登録書!D38 -> 0 | R4: =②チーム登録書!D39 -> 0 | U4: =②チーム登録書!D40 -> 0
C5: 副 | D5: =②チーム登録書!E35 -> 0 | G5: =②チーム登録書!E36 -> 0 | J5: =②チーム登録書!E37 -> 0 | N5: 副 | O5: =②チーム登録書!E38 -> 0 | R5: =②チーム登録書!E39 -> 0 | U5: =②チーム登録書!E40 -> 0
B6: チーム情報
B7: フリガナ | J7: =IF(②チーム登録書!D7="","",DBCS(②チーム登録書!D7))
B8: 略称名 | J8: =IF(②チーム登録書!D8="","",DBCS(②チーム登録書!D8))
B9: 所在地 | J9: =IF(②チーム登録書!D9="","",②チーム登録書!D9)
B10: チ ー ム 登 録 番 号 | J10: =IF(②チーム登録書!D5="","",DBCS(MID(②チーム登録書!D5,1,1)) & " " & DBCS(MID(②チーム登録書!D5,2,1)) & " " & DBCS(MID(②チーム登録書!D5,3,1)) & " " & DBCS(MID(②チーム登録書!D5,4,1)) & " " & DBCS(MID(②チーム登録書!D5,5,1)) & " " & DBCS(MID(②チーム登録書!D5,6,1)) & " " & DBCS(MID(②チーム登録書!D5,7,1)))
B11: 所属リーグ | J11: =IF(②チーム登録書!D10="","",②チーム登録書!D10)
B12: 連絡先
B13: 代表者 | F13: フリガナ | J13: =IF(②チーム登録書!D14="","",DBCS(②チーム登録書!D14))
F14: 氏名 | J14: =IF(②チーム登録書!D13="","",②チーム登録書!D13)
F15: 連絡先 | J15: =IF(②チーム登録書!D17="","",DBCS(②チーム登録書!D17))
B16: 運営委員 | F16: フリガナ | J16: =IF(②チーム登録書!D22="","",DBCS(②チーム登録書!D22))
F17: 氏名 | J17: =IF(②チーム登録書!D21="","",②チーム登録書!D21)
F18: 連絡先 | J18: =IF(②チーム登録書!D24="","",DBCS(②チーム登録書!D24))
B19: 監督 | D19: =IF(②チーム登録書!D28="","",DBCS(②チーム登録書!D28)) | M19: 主将 | O19: =IF(②チーム登録書!D32="","",DBCS(②チーム登録書!D32))
D20: =IF(②チーム登録書!D27="","",②チーム登録書!D27) | O20: =IF(②チーム登録書!D31="","",②チーム登録書!D31)
C21: (チームプロフィール) | O21: 登録審判員（代表５人）
C22: =IF(②チーム登録書!C46="","",②チーム登録書!C46) | N22: 級 | Q22: 氏 名
N23: =IF(ISERROR(VLOOKUP("順番1",③選手登録書!N6:P47,2,0)),"",VLOOKUP("順番1",③選手登録書!N6:P47,2,0)) | Q23: =IF(ISERROR(VLOOKUP("順番1",③選手登録書!N6:Q47,4,0)),"",VLOOKUP("順番1",③選手登録書!N6:Q47,4,0))
N24: =IF(ISERROR(VLOOKUP("順番2",③選手登録書!N6:P47,2,0)),"",VLOOKUP("順番2",③選手登録書!N6:P47,2,0)) | Q24: =IF(ISERROR(VLOOKUP("順番2",③選手登録書!N6:Q47,4,0)),"",VLOOKUP("順番2",③選手登録書!N6:Q47,4,0))
N25: =IF(ISERROR(VLOOKUP("順番3",③選手登録書!N6:P47,2,0)),"",VLOOKUP("順番3",③選手登録書!N6:P47,2,0)) | Q25: =IF(ISERROR(VLOOKUP("順番3",③選手登録書!N6:Q47,4,0)),"",VLOOKUP("順番3",③選手登録書!N6:Q47,4,0))
N26: =IF(ISERROR(VLOOKUP("順番4",③選手登録書!N6:P47,2,0)),"",VLOOKUP("順番4",③選手登録書!N6:P47,2,0)) | Q26: =IF(ISERROR(VLOOKUP("順番4",③選手登録書!N6:Q47,4,0)),"",VLOOKUP("順番4",③選手登録書!N6:Q47,4,0))
N27: =IF(ISERROR(VLOOKUP("順番5",③選手登録書!N6:P47,2,0)),"",VLOOKUP("順番5",③選手登録書!N6:P47,2,0)) | Q27: =IF(ISERROR(VLOOKUP("順番5",③選手登録書!N6:Q47,4,0)),"",VLOOKUP("順番5",③選手登録書!N6:Q47,4,0))
B28: 選 手 登 録 票
B29: No. | D29: Pos. | F29: 氏 名 | L29: 年齢 | N29: 身長 | P29: 体重 | R29: 前所属チーム
B30: =IF(③選手登録書!B6="","",ASC(③選手登録書!B6)) | D30: =IF(③選手登録書!C6="","",ASC(③選手登録書!C6)) | F30: =IF(③選手登録書!D6="","",③選手登録書!D6) | L30: =IF(③選手登録書!I6="","",ASC(③選手登録書!I6)) | N30: =IF(③選手登録書!J6="","",ASC(③選手登録書!J6)) | P30: =IF(③選手登録書!K6=""," ",ASC(③選手登録書!K6)) | R30: =IF(③選手登録書!L6="","",③選手登録書!L6)
B31: =IF(③選手登録書!B7="","",ASC(③選手登録書!B7)) | D31: =IF(③選手登録書!C7="","",ASC(③選手登録書!C7)) | F31: =IF(③選手登録書!D7="","",③選手登録書!D7) | L31: =IF(③選手登録書!I7="","",ASC(③選手登録書!I7)) | N31: =IF(③選手登録書!J7="","",ASC(③選手登録書!J7)) | P31: =IF(③選手登録書!K7=""," ",ASC(③選手登録書!K7)) | R31: =IF(③選手登録書!L7="","",③選手登録書!L7)
B32: =IF(③選手登録書!B8="","",ASC(③選手登録書!B8)) | D32: =IF(③選手登録書!C8="","",ASC(③選手登録書!C8)) | F32: =IF(③選手登録書!D8="","",③選手登録書!D8) | L32: =IF(③選手登録書!I8="","",ASC(③選手登録書!I8)) | N32: =IF(③選手登録書!J8="","",ASC(③選手登録書!J8)) | P32: =IF(③選手登録書!K8=""," ",ASC(③選手登録書!K8)) | R32: =IF(③選手登録書!L8="","",③選手登録書!L8)
B33: =IF(③選手登録書!B9="","",ASC(③選手登録書!B9)) | D33: =IF(③選手登録書!C9="","",ASC(③選手登録書!C9)) | F33: =IF(③選手登録書!D9="","",③選手登録書!D9) | L33: =IF(③選手登録書!I9="","",ASC(③選手登録書!I9)) | N33: =IF(③選手登録書!J9="","",ASC(③選手登録書!J9)) | P33: =IF(③選手登録書!K9=""," ",ASC(③選手登録書!K9)) | R33: =IF(③選手登録書!L9="","",③選手登録書!L9)
B34: =IF(③選手登録書!B10="","",ASC(③選手登録書!B10)) | D34: =IF(③選手登録書!C10="","",ASC(③選手登録書!C10)) | F34: =IF(③選手登録書!D10="","",③選手登録書!D10) | L34: =IF(③選手登録書!I10="","",ASC(③選手登録書!I10)) | N34: =IF(③選手登録書!J10="","",ASC(③選手登録書!J10)) | P34: =IF(③選手登録書!K10=""," ",ASC(③選手登録書!K10)) | R34: =IF(③選手登録書!L10="","",③選手登録書!L10)
B35: =IF(③選手登録書!B11="","",ASC(③選手登録書!B11)) | D35: =IF(③選手登録書!C11="","",ASC(③選手登録書!C11)) | F35: =IF(③選手登録書!D11="","",③選手登録書!D11) | L35: =IF(③選手登録書!I11="","",ASC(③選手登録書!I11)) | N35: =IF(③選手登録書!J11="","",ASC(③選手登録書!J11)) | P35: =IF(③選手登録書!K11=""," ",ASC(③選手登録書!K11)) | R35: =IF(③選手登録書!L11="","",③選手登録書!L11)
B36: =IF(③選手登録書!B12="","",ASC(③選手登録書!B12)) | D36: =IF(③選手登録書!C12="","",ASC(③選手登録書!C12)) | F36: =IF(③選手登録書!D12="","",③選手登録書!D12) | L36: =IF(③選手登録書!I12="","",ASC(③選手登録書!I12)) | N36: =IF(③選手登録書!J12="","",ASC(③選手登録書!J12)) | P36: =IF(③選手登録書!K12=""," ",ASC(③選手登録書!K12)) | R36: =IF(③選手登録書!L12="","",③選手登録書!L12)
B37: =IF(③選手登録書!B13="","",ASC(③選手登録書!B13)) | D37: =IF(③選手登録書!C13="","",ASC(③選手登録書!C13)) | F37: =IF(③選手登録書!D13="","",③選手登録書!D13) | L37: =IF(③選手登録書!I13="","",ASC(③選手登録書!I13)) | N37: =IF(③選手登録書!J13="","",ASC(③選手登録書!J13)) | P37: =IF(③選手登録書!K13=""," ",ASC(③選手登録書!K13)) | R37: =IF(③選手登録書!L13="","",③選手登録書!L13)
B38: =IF(③選手登録書!B14="","",ASC(③選手登録書!B14)) | D38: =IF(③選手登録書!C14="","",ASC(③選手登録書!C14)) | F38: =IF(③選手登録書!D14="","",③選手登録書!D14) | L38: =IF(③選手登録書!I14="","",ASC(③選手登録書!I14)) | N38: =IF(③選手登録書!J14="","",ASC(③選手登録書!J14)) | P38: =IF(③選手登録書!K14=""," ",ASC(③選手登録書!K14)) | R38: =IF(③選手登録書!L14="","",③選手登録書!L14)
B39: =IF(③選手登録書!B15="","",ASC(③選手登録書!B15)) | D39: =IF(③選手登録書!C15="","",ASC(③選手登録書!C15)) | F39: =IF(③選手登録書!D15="","",③選手登録書!D15) | L39: =IF(③選手登録書!I15="","",ASC(③選手登録書!I15)) | N39: =IF(③選手登録書!J15="","",ASC(③選手登録書!J15)) | P39: =IF(③選手登録書!K15=""," ",ASC(③選手登録書!K15)) | R39: =IF(③選手登録書!L15="","",③選手登録書!L15)
B40: =IF(③選手登録書!B16="","",ASC(③選手登録書!B16)) | D40: =IF(③選手登録書!C16="","",ASC(③選手登録書!C16)) | F40: =IF(③選手登録書!D16="","",③選手登録書!D16) | L40: =IF(③選手登録書!I16="","",ASC(③選手登録書!I16)) | N40: =IF(③選手登録書!J16="","",ASC(③選手登録書!J16)) | P40: =IF(③選手登録書!K16=""," ",ASC(③選手登録書!K16)) | R40: =IF(③選手登録書!L16="","",③選手登録書!L16)
B41: =IF(③選手登録書!B17="","",ASC(③選手登録書!B17)) | D41: =IF(③選手登録書!C17="","",ASC(③選手登録書!C17)) | F41: =IF(③選手登録書!D17="","",③選手登録書!D17) | L41: =IF(③選手登録書!I17="","",ASC(③選手登録書!I17)) | N41: =IF(③選手登録書!J17="","",ASC(③選手登録書!J17)) | P41: =IF(③選手登録書!K17=""," ",ASC(③選手登録書!K17)) | R41: =IF(③選手登録書!L17="","",③選手登録書!L17)
...
